BEGIN:VCALENDAR
VERSION:2.0
BEGIN:VEVENT
STATUS:CONFIRMED
DESCRIPTION:
CLASS:PUBLIC
UID:00f8547f-40f5-474c-a704-8a2814dc44f3
URL:https://nyght.ch/events/00f8547f-40f5-474c-a704-8a2814dc44f3
SUMMARY:Lip Sync Challenge #2
LAST-MODIFIED:20251028T074340Z
DTSTAMP:20260424T120000Z
DTSTART:20251220T200000Z
DTEND:20251221T020000Z
END:VEVENT
METHOD:PUBLISH
PRODID:-//Nyght//iCal API//EN
CALSCALE:GREGORIAN
END:VCALENDAR