BEGIN:VCALENDAR
VERSION:2.0
BEGIN:VEVENT
STATUS:CONFIRMED
DESCRIPTION:
CLASS:PUBLIC
UID:0115f580-c5ad-4dd1-bb7e-e3745c7d1599
URL:https://nyght.ch/events/0115f580-c5ad-4dd1-bb7e-e3745c7d1599
SUMMARY:Nouvel An - Koh Lanta
LAST-MODIFIED:20251028T074346Z
DTSTAMP:20260424T095822Z
DTSTART:20251231T150000Z
DTEND:20260101T040000Z
END:VEVENT
METHOD:PUBLISH
PRODID:-//Nyght//iCal API//EN
CALSCALE:GREGORIAN
END:VCALENDAR