BEGIN:VCALENDAR
VERSION:2.0
BEGIN:VEVENT
STATUS:CONFIRMED
DESCRIPTION:
CLASS:PUBLIC
UID:04884697-1654-443c-9cc3-d4c94c3ca848
URL:https://nyght.ch/events/04884697-1654-443c-9cc3-d4c94c3ca848
SUMMARY:Petit FIFF x NM Sens Dessus Dessous 
LAST-MODIFIED:20251216T182432Z
DTSTAMP:20260423T151844Z
DTSTART:20260201T130000Z
DTEND:20260201T150000Z
END:VEVENT
METHOD:PUBLISH
PRODID:-//Nyght//iCal API//EN
CALSCALE:GREGORIAN
END:VCALENDAR