BEGIN:VCALENDAR
VERSION:2.0
BEGIN:VEVENT
STATUS:CONFIRMED
DESCRIPTION:
CLASS:PUBLIC
UID:0c22a2ad-f1c3-4d54-b0cf-ffad61f7bae4
URL:https://nyght.ch/events/0c22a2ad-f1c3-4d54-b0cf-ffad61f7bae4
SUMMARY:Lord Betterave - jeudi
LAST-MODIFIED:20251031T101627Z
DTSTAMP:20260424T154155Z
DTSTART:20251218T150000Z
DTEND:20251218T210000Z
END:VEVENT
METHOD:PUBLISH
PRODID:-//Nyght//iCal API//EN
CALSCALE:GREGORIAN
END:VCALENDAR