BEGIN:VCALENDAR
VERSION:2.0
BEGIN:VEVENT
STATUS:CONFIRMED
DESCRIPTION:
CLASS:PUBLIC
UID:0d13b040-279d-4bf5-99d2-1b079d564816
URL:https://nyght.ch/events/0d13b040-279d-4bf5-99d2-1b079d564816
SUMMARY:Lord Betterave - Mercredi 
LAST-MODIFIED:20251028T074319Z
DTSTAMP:20260424T171723Z
DTSTART:20251217T150000Z
DTEND:20251217T210000Z
END:VEVENT
METHOD:PUBLISH
PRODID:-//Nyght//iCal API//EN
CALSCALE:GREGORIAN
END:VCALENDAR