BEGIN:VCALENDAR
VERSION:2.0
BEGIN:VEVENT
STATUS:CONFIRMED
DESCRIPTION:
CLASS:PUBLIC
UID:10573d67-5069-45ea-aa40-c028f1d5fc0f
URL:https://nyght.ch/events/10573d67-5069-45ea-aa40-c028f1d5fc0f
SUMMARY:Turbo Pantoufle + Cédric Blaser + SODA 
LAST-MODIFIED:20251028T074218Z
DTSTAMP:20260425T131749Z
DTSTART:20251122T200000Z
DTEND:20251123T020000Z
END:VEVENT
METHOD:PUBLISH
PRODID:-//Nyght//iCal API//EN
CALSCALE:GREGORIAN
END:VCALENDAR