BEGIN:VCALENDAR
VERSION:2.0
BEGIN:VEVENT
STATUS:CONFIRMED
DESCRIPTION:
CLASS:PUBLIC
UID:17a49ae7-be8d-4723-98e9-983c36c5eb26
URL:https://nyght.ch/events/17a49ae7-be8d-4723-98e9-983c36c5eb26
SUMMARY:Bad Taste Party - The Bad Binches
LAST-MODIFIED:20250826T101725Z
DTSTAMP:20260426T035145Z
DTSTART:20251031T210000Z
DTEND:20251101T020000Z
END:VEVENT
METHOD:PUBLISH
PRODID:-//Nyght//iCal API//EN
CALSCALE:GREGORIAN
END:VCALENDAR