BEGIN:VCALENDAR
VERSION:2.0
BEGIN:VEVENT
STATUS:CONFIRMED
DESCRIPTION:
CLASS:PUBLIC
UID:18efc330-9f3a-4192-879a-90cfb4c75408
URL:https://nyght.ch/events/18efc330-9f3a-4192-879a-90cfb4c75408
SUMMARY:Whole Lotta's DJs - NM x Schmittner Openair 
LAST-MODIFIED:20260224T085550Z
DTSTAMP:20260420T000142Z
DTSTART:20260411T190000Z
DTEND:20260412T000000Z
END:VEVENT
METHOD:PUBLISH
PRODID:-//Nyght//iCal API//EN
CALSCALE:GREGORIAN
END:VCALENDAR