BEGIN:VCALENDAR
VERSION:2.0
BEGIN:VEVENT
STATUS:CONFIRMED
DESCRIPTION:Photos et chapeau pour cette troisième édition des scènes ouv
 ertes :-) 
CLASS:PUBLIC
UID:1f2aebf4-445a-4b37-87fd-e5d1973f1193
URL:https://nyght.ch/events/1f2aebf4-445a-4b37-87fd-e5d1973f1193
SUMMARY:Scènes Ouvertes #3
LAST-MODIFIED:20251028T073817Z
DTSTAMP:20260426T003149Z
DTSTART:20251102T130000Z
DTEND:20251102T160000Z
END:VEVENT
METHOD:PUBLISH
PRODID:-//Nyght//iCal API//EN
CALSCALE:GREGORIAN
END:VCALENDAR