BEGIN:VCALENDAR
VERSION:2.0
BEGIN:VEVENT
STATUS:CONFIRMED
DESCRIPTION:
CLASS:PUBLIC
UID:2ac2bf47-3d51-4e7b-bb57-5567b7494615
URL:https://nyght.ch/events/2ac2bf47-3d51-4e7b-bb57-5567b7494615
SUMMARY:Souffrance + Open Mic + After Boom Bass
LAST-MODIFIED:20251219T050642Z
DTSTAMP:20260423T220137Z
DTSTART:20260124T150000Z
DTEND:20260125T020000Z
END:VEVENT
METHOD:PUBLISH
PRODID:-//Nyght//iCal API//EN
CALSCALE:GREGORIAN
END:VCALENDAR