BEGIN:VCALENDAR
VERSION:2.0
BEGIN:VEVENT
STATUS:CONFIRMED
DESCRIPTION:
CLASS:PUBLIC
UID:30fe51ab-cae6-4512-af2d-6b734c153163
URL:https://nyght.ch/events/30fe51ab-cae6-4512-af2d-6b734c153163
SUMMARY:Cinzia Cattaneo - Avec des gens 
LAST-MODIFIED:20260224T085522Z
DTSTAMP:20260422T175957Z
DTSTART:20260313T190000Z
DTEND:20260313T213000Z
END:VEVENT
METHOD:PUBLISH
PRODID:-//Nyght//iCal API//EN
CALSCALE:GREGORIAN
END:VCALENDAR