BEGIN:VCALENDAR
VERSION:2.0
BEGIN:VEVENT
STATUS:CONFIRMED
DESCRIPTION:
CLASS:PUBLIC
UID:34035d06-c8b0-4ade-87a4-7446998c3ab3
URL:https://nyght.ch/events/34035d06-c8b0-4ade-87a4-7446998c3ab3
SUMMARY:Silent Party - Samedi 
LAST-MODIFIED:20251216T182455Z
DTSTAMP:20260423T042349Z
DTSTART:20260221T190000Z
DTEND:20260222T020000Z
END:VEVENT
METHOD:PUBLISH
PRODID:-//Nyght//iCal API//EN
CALSCALE:GREGORIAN
END:VCALENDAR