BEGIN:VCALENDAR
VERSION:2.0
BEGIN:VEVENT
STATUS:CONFIRMED
DESCRIPTION:
CLASS:PUBLIC
UID:343a43b4-d76e-47a3-8b5c-3b640a83a140
URL:https://nyght.ch/events/343a43b4-d76e-47a3-8b5c-3b640a83a140
SUMMARY:Ciné Kids de Pâques <3
LAST-MODIFIED:20260224T085558Z
DTSTAMP:20260419T190346Z
DTSTART:20260418T133000Z
DTEND:20260418T144500Z
END:VEVENT
METHOD:PUBLISH
PRODID:-//Nyght//iCal API//EN
CALSCALE:GREGORIAN
END:VCALENDAR