BEGIN:VCALENDAR
VERSION:2.0
BEGIN:VEVENT
STATUS:CONFIRMED
DESCRIPTION:
CLASS:PUBLIC
UID:3800be28-b524-4708-8cfc-cb5a254e3b70
URL:https://nyght.ch/events/3800be28-b524-4708-8cfc-cb5a254e3b70
SUMMARY:wildreis x PONYCLUB
LAST-MODIFIED:20260224T085538Z
DTSTAMP:20260420T065416Z
DTSTART:20260328T210000Z
DTEND:20260329T030000Z
END:VEVENT
METHOD:PUBLISH
PRODID:-//Nyght//iCal API//EN
CALSCALE:GREGORIAN
END:VCALENDAR