BEGIN:VCALENDAR
VERSION:2.0
BEGIN:VEVENT
STATUS:CONFIRMED
DESCRIPTION:le-a Dj joue dans le café :-) 
CLASS:PUBLIC
UID:393ab10d-edc2-4456-a723-1a793de4b751
URL:https://nyght.ch/events/393ab10d-edc2-4456-a723-1a793de4b751
SUMMARY:Ici d'Ici #22
LAST-MODIFIED:20260224T085547Z
DTSTAMP:20260420T014726Z
DTSTART:20260410T190000Z
DTEND:20260410T233000Z
END:VEVENT
METHOD:PUBLISH
PRODID:-//Nyght//iCal API//EN
CALSCALE:GREGORIAN
END:VCALENDAR