BEGIN:VCALENDAR
VERSION:2.0
BEGIN:VEVENT
STATUS:CONFIRMED
DESCRIPTION:
CLASS:PUBLIC
UID:4532fa5c-5985-4b40-9ba9-9e6f1ba710af
URL:https://nyght.ch/events/4532fa5c-5985-4b40-9ba9-9e6f1ba710af
SUMMARY:Delicate Prey + Hook, Line & Sinker + The Burden Remains
LAST-MODIFIED:20251028T073916Z
DTSTAMP:20260425T205151Z
DTSTART:20251114T200000Z
DTEND:20251114T233000Z
END:VEVENT
METHOD:PUBLISH
PRODID:-//Nyght//iCal API//EN
CALSCALE:GREGORIAN
END:VCALENDAR