BEGIN:VCALENDAR
VERSION:2.0
BEGIN:VEVENT
STATUS:CONFIRMED
DESCRIPTION:Journée de soutien fun avec Karaoké, Blindtest, Stand up et m
 usique improvisée, le tout avec des ballons qui se feront exploser par un
  aspirateur des enfers 
CLASS:PUBLIC
UID:460f62c0-a97b-4ffa-ae09-f79840aeeedd
URL:https://nyght.ch/events/460f62c0-a97b-4ffa-ae09-f79840aeeedd
SUMMARY:Soli-journée du NM + Karaoké Autotune
LAST-MODIFIED:20251028T074200Z
DTSTAMP:20260425T184538Z
DTSTART:20251115T150000Z
DTEND:20251116T020000Z
END:VEVENT
METHOD:PUBLISH
PRODID:-//Nyght//iCal API//EN
CALSCALE:GREGORIAN
END:VCALENDAR