BEGIN:VCALENDAR
VERSION:2.0
BEGIN:VEVENT
STATUS:CONFIRMED
DESCRIPTION:
CLASS:PUBLIC
UID:518c6f51-d84e-4fa0-b804-0d065d74963f
URL:https://nyght.ch/events/518c6f51-d84e-4fa0-b804-0d065d74963f
SUMMARY:Cousines like shit + godasse 
LAST-MODIFIED:20260224T085541Z
DTSTAMP:20260420T050403Z
DTSTART:20260403T190000Z
DTEND:20260403T220000Z
END:VEVENT
METHOD:PUBLISH
PRODID:-//Nyght//iCal API//EN
CALSCALE:GREGORIAN
END:VCALENDAR