BEGIN:VCALENDAR
VERSION:2.0
BEGIN:VEVENT
STATUS:CONFIRMED
DESCRIPTION:
CLASS:PUBLIC
UID:53c70de6-2f64-4465-b774-8b68baffedaa
URL:https://nyght.ch/events/53c70de6-2f64-4465-b774-8b68baffedaa
SUMMARY:FULL METAL - SUN + SCALPEL + FVRIA 
LAST-MODIFIED:20260224T085555Z
DTSTAMP:20260419T210014Z
DTSTART:20260417T180000Z
DTEND:20260417T223000Z
END:VEVENT
METHOD:PUBLISH
PRODID:-//Nyght//iCal API//EN
CALSCALE:GREGORIAN
END:VCALENDAR