BEGIN:VCALENDAR
VERSION:2.0
BEGIN:VEVENT
STATUS:CONFIRMED
DESCRIPTION:Please Stand Up suivi d'un Mat'Lab 
CLASS:PUBLIC
UID:55ae3adc-a5d5-4a95-9209-4d0374f7ccec
URL:https://nyght.ch/events/55ae3adc-a5d5-4a95-9209-4d0374f7ccec
SUMMARY:Please Stand Up 21 
LAST-MODIFIED:20251216T182359Z
DTSTAMP:20260424T050457Z
DTSTART:20260110T160000Z
DTEND:20260110T220000Z
END:VEVENT
METHOD:PUBLISH
PRODID:-//Nyght//iCal API//EN
CALSCALE:GREGORIAN
END:VCALENDAR