BEGIN:VCALENDAR
VERSION:2.0
BEGIN:VEVENT
STATUS:CONFIRMED
DESCRIPTION:
CLASS:PUBLIC
UID:57094221-8d2f-44d1-9da5-0efbd2cf8e8e
URL:https://nyght.ch/events/57094221-8d2f-44d1-9da5-0efbd2cf8e8e
SUMMARY:La Grooverie #7 by La Baraque : OFF-575 b2b Eva May + Basile b2b 
 Gimbir
LAST-MODIFIED:20251216T182428Z
DTSTAMP:20260423T170110Z
DTSTART:20260131T150000Z
DTEND:20260201T014500Z
END:VEVENT
METHOD:PUBLISH
PRODID:-//Nyght//iCal API//EN
CALSCALE:GREGORIAN
END:VCALENDAR