BEGIN:VCALENDAR
VERSION:2.0
BEGIN:VEVENT
STATUS:CONFIRMED
DESCRIPTION:
CLASS:PUBLIC
UID:5dbcf894-b80e-46cd-aedf-4fb7c1db4b40
URL:https://nyght.ch/events/5dbcf894-b80e-46cd-aedf-4fb7c1db4b40
SUMMARY:Blind Test du Nouveau Monde + After Karaoké By Réa & Salamin
LAST-MODIFIED:20260224T085536Z
DTSTAMP:20260422T091615Z
DTSTART:20260327T210000Z
DTEND:20260328T020000Z
END:VEVENT
METHOD:PUBLISH
PRODID:-//Nyght//iCal API//EN
CALSCALE:GREGORIAN
END:VCALENDAR