BEGIN:VCALENDAR
VERSION:2.0
BEGIN:VEVENT
STATUS:CONFIRMED
DESCRIPTION:
CLASS:PUBLIC
UID:6b6eeb04-3d4e-4b6b-bf02-d013038b0dbd
URL:https://nyght.ch/events/6b6eeb04-3d4e-4b6b-bf02-d013038b0dbd
SUMMARY:Le Karaoké de Lady Disco Ball & La Loutre 
LAST-MODIFIED:20260224T085530Z
DTSTAMP:20260422T122245Z
DTSTART:20260320T210000Z
DTEND:20260321T020000Z
END:VEVENT
METHOD:PUBLISH
PRODID:-//Nyght//iCal API//EN
CALSCALE:GREGORIAN
END:VCALENDAR