BEGIN:VCALENDAR
VERSION:2.0
BEGIN:VEVENT
STATUS:CONFIRMED
DESCRIPTION:Match d'impro Fribourg VS Bienne 
CLASS:PUBLIC
UID:72f47f77-e261-4ff9-8df5-0b1e8668121f
URL:https://nyght.ch/events/72f47f77-e261-4ff9-8df5-0b1e8668121f
SUMMARY:Liiiiif VS Indélébiel
LAST-MODIFIED:20251028T073802Z
DTSTAMP:20260426T021105Z
DTSTART:20251101T190000Z
DTEND:20251101T213000Z
END:VEVENT
METHOD:PUBLISH
PRODID:-//Nyght//iCal API//EN
CALSCALE:GREGORIAN
END:VCALENDAR