BEGIN:VCALENDAR
VERSION:2.0
BEGIN:VEVENT
STATUS:CONFIRMED
DESCRIPTION:
CLASS:PUBLIC
UID:79a5eac8-2128-4aa9-80cc-629cd6f95564
URL:https://nyght.ch/events/79a5eac8-2128-4aa9-80cc-629cd6f95564
SUMMARY:Square Ventura (vernissage) + Harvey Rushmore & the Octopus + the
  Big Idea
LAST-MODIFIED:20260224T085544Z
DTSTAMP:20260420T030743Z
DTSTART:20260404T180000Z
DTEND:20260404T220000Z
END:VEVENT
METHOD:PUBLISH
PRODID:-//Nyght//iCal API//EN
CALSCALE:GREGORIAN
END:VCALENDAR