BEGIN:VCALENDAR
VERSION:2.0
BEGIN:VEVENT
STATUS:CONFIRMED
DESCRIPTION:
CLASS:PUBLIC
UID:7c9b42e9-cf56-4d5f-a935-03aa7a1d2f58
URL:https://nyght.ch/events/7c9b42e9-cf56-4d5f-a935-03aa7a1d2f58
SUMMARY:Antoino (vernissage) + Chien Bleu + after by collectif copains 
LAST-MODIFIED:20251216T182507Z
DTSTAMP:20260422T230931Z
DTSTART:20260228T150000Z
DTEND:20260301T020000Z
END:VEVENT
METHOD:PUBLISH
PRODID:-//Nyght//iCal API//EN
CALSCALE:GREGORIAN
END:VCALENDAR