BEGIN:VCALENDAR
VERSION:2.0
BEGIN:VEVENT
STATUS:CONFIRMED
DESCRIPTION:
CLASS:PUBLIC
UID:855da5b0-f665-4ada-b2ae-af84135a8dc7
URL:https://nyght.ch/events/855da5b0-f665-4ada-b2ae-af84135a8dc7
SUMMARY:Silent Party - Dimanche 
LAST-MODIFIED:20251216T182459Z
DTSTAMP:20260423T022436Z
DTSTART:20260222T120000Z
DTEND:20260222T163000Z
END:VEVENT
METHOD:PUBLISH
PRODID:-//Nyght//iCal API//EN
CALSCALE:GREGORIAN
END:VCALENDAR