BEGIN:VCALENDAR
VERSION:2.0
BEGIN:VEVENT
STATUS:CONFIRMED
DESCRIPTION:
CLASS:PUBLIC
UID:8b376a8b-3bd6-426b-97af-802b6ad088c0
URL:https://nyght.ch/events/8b376a8b-3bd6-426b-97af-802b6ad088c0
SUMMARY:Obertonstruktur der Kaulquappe + Savage Dub + Duchesse 
LAST-MODIFIED:20251216T182439Z
DTSTAMP:20260423T114445Z
DTSTART:20260206T150000Z
DTEND:20260207T000000Z
END:VEVENT
METHOD:PUBLISH
PRODID:-//Nyght//iCal API//EN
CALSCALE:GREGORIAN
END:VCALENDAR