BEGIN:VCALENDAR
VERSION:2.0
BEGIN:VEVENT
STATUS:CONFIRMED
DESCRIPTION:Soirée FINTA qui commencent plus tôt mais qui finit plus tôt 
 également. 
CLASS:PUBLIC
UID:8b71a173-fbc7-4086-bf4e-854ce5330551
URL:https://nyght.ch/events/8b71a173-fbc7-4086-bf4e-854ce5330551
SUMMARY:Elles vont Tanzen* FINTA ONLY
LAST-MODIFIED:20251028T074213Z
DTSTAMP:20260425T150140Z
DTSTART:20251121T180000Z
DTEND:20251122T000000Z
END:VEVENT
METHOD:PUBLISH
PRODID:-//Nyght//iCal API//EN
CALSCALE:GREGORIAN
END:VCALENDAR