BEGIN:VCALENDAR
VERSION:2.0
BEGIN:VEVENT
STATUS:CONFIRMED
DESCRIPTION:
CLASS:PUBLIC
UID:8bd56182-5403-4b10-94f5-78ac86749f71
URL:https://nyght.ch/events/8bd56182-5403-4b10-94f5-78ac86749f71
SUMMARY:Oscar les Vacances + Judith*G
LAST-MODIFIED:20251028T074258Z
DTSTAMP:20260425T005008Z
DTSTART:20251205T150000Z
DTEND:20251205T230000Z
END:VEVENT
METHOD:PUBLISH
PRODID:-//Nyght//iCal API//EN
CALSCALE:GREGORIAN
END:VCALENDAR