BEGIN:VCALENDAR
VERSION:2.0
BEGIN:VEVENT
STATUS:CONFIRMED
DESCRIPTION:
CLASS:PUBLIC
UID:8f88534e-1492-4e46-9f68-e49322e8d967
URL:https://nyght.ch/events/8f88534e-1492-4e46-9f68-e49322e8d967
SUMMARY:Drag-Loto avec Royale Cattin - NM x EquOpp
LAST-MODIFIED:20260224T085519Z
DTSTAMP:20260422T194320Z
DTSTART:20260312T180000Z
DTEND:20260312T223000Z
END:VEVENT
METHOD:PUBLISH
PRODID:-//Nyght//iCal API//EN
CALSCALE:GREGORIAN
END:VCALENDAR