BEGIN:VCALENDAR
VERSION:2.0
BEGIN:VEVENT
STATUS:CONFIRMED
DESCRIPTION:
CLASS:PUBLIC
UID:934e6c69-06c2-406c-8a03-e6ada8705247
URL:https://nyght.ch/events/934e6c69-06c2-406c-8a03-e6ada8705247
SUMMARY:Klô Pelgag + Mari.e L 
LAST-MODIFIED:20251216T182415Z
DTSTAMP:20260423T201622Z
DTSTART:20260127T150000Z
DTEND:20260127T220000Z
END:VEVENT
METHOD:PUBLISH
PRODID:-//Nyght//iCal API//EN
CALSCALE:GREGORIAN
END:VCALENDAR