BEGIN:VCALENDAR
VERSION:2.0
BEGIN:VEVENT
STATUS:CONFIRMED
DESCRIPTION:
CLASS:PUBLIC
UID:94883495-f129-49bf-bdfb-345c1ab36385
URL:https://nyght.ch/events/94883495-f129-49bf-bdfb-345c1ab36385
SUMMARY:La Mobilière X Couloir Gang 
LAST-MODIFIED:20251216T182448Z
DTSTAMP:20260423T082042Z
DTSTART:20260213T190000Z
DTEND:20260214T020000Z
END:VEVENT
METHOD:PUBLISH
PRODID:-//Nyght//iCal API//EN
CALSCALE:GREGORIAN
END:VCALENDAR