BEGIN:VCALENDAR
VERSION:2.0
BEGIN:VEVENT
STATUS:CONFIRMED
DESCRIPTION:
CLASS:PUBLIC
UID:96051352-de05-4e62-b094-e19451d68824
URL:https://nyght.ch/events/96051352-de05-4e62-b094-e19451d68824
SUMMARY:Azalée - Lonesome Station - Onimo (Triple vernissage)
LAST-MODIFIED:20260224T085525Z
DTSTAMP:20260422T161543Z
DTSTART:20260314T183000Z
DTEND:20260314T223000Z
END:VEVENT
METHOD:PUBLISH
PRODID:-//Nyght//iCal API//EN
CALSCALE:GREGORIAN
END:VCALENDAR