BEGIN:VCALENDAR
VERSION:2.0
BEGIN:VEVENT
STATUS:CONFIRMED
DESCRIPTION:
CLASS:PUBLIC
UID:972f7dc1-d442-4c69-81b8-0a31165d2e48
URL:https://nyght.ch/events/972f7dc1-d442-4c69-81b8-0a31165d2e48
SUMMARY:Full Metal Ft Anachronism, Orgo, Brévine 
LAST-MODIFIED:20251216T182411Z
DTSTAMP:20260423T234137Z
DTSTART:20260123T150000Z
DTEND:20260123T233000Z
END:VEVENT
METHOD:PUBLISH
PRODID:-//Nyght//iCal API//EN
CALSCALE:GREGORIAN
END:VCALENDAR