BEGIN:VCALENDAR
VERSION:2.0
BEGIN:VEVENT
STATUS:CONFIRMED
DESCRIPTION:Concert de musique immersive dans la salle de la Baleine au m
 usée d'histoire naturelle. 
CLASS:PUBLIC
UID:9bfe2a26-f749-4806-beff-f3ca0f666b75
URL:https://nyght.ch/events/9bfe2a26-f749-4806-beff-f3ca0f666b75
SUMMARY:Kriss Mess Extra Muros au Musée d'Histoire Naturelle
LAST-MODIFIED:20251216T182435Z
DTSTAMP:20260423T133321Z
DTSTART:20260205T160000Z
DTEND:20260205T194500Z
END:VEVENT
METHOD:PUBLISH
PRODID:-//Nyght//iCal API//EN
CALSCALE:GREGORIAN
END:VCALENDAR