BEGIN:VCALENDAR
VERSION:2.0
BEGIN:VEVENT
STATUS:CONFIRMED
DESCRIPTION:A l’occasion de la Journée internationale pour l’élimination 
 de la violence à l’égard des femmes, Solidarité femmes fribourg organise 
 en collaboration avec espacefemmes-frauenraum et La Libraire L’Art d’Aime
 r une soirée de prévention et de sensibilisation de la violence de genre 
 au Nouveau Monde. Cette soirée offre l’opportunité de s’initier à la boxe
  et d’échanger autour de la thématique des violences de genre. Elle est a
 ussi l’occasion de remercier les personnes qui se mobilisent et de célébr
 er leur engagement en partageant un moment festif. 
CLASS:PUBLIC
UID:9c46dfca-e67e-4436-9841-fd0cf5c57c08
URL:https://nyght.ch/events/9c46dfca-e67e-4436-9841-fd0cf5c57c08
SUMMARY:Orange Day - Solidarité Femmes Fribourg ft Espace femme ft L'Art 
 d'Aimer - Lily Gasc + Ponyclub 
LAST-MODIFIED:20251028T074223Z
DTSTAMP:20260425T113030Z
DTSTART:20251125T160000Z
DTEND:20251125T223000Z
END:VEVENT
METHOD:PUBLISH
PRODID:-//Nyght//iCal API//EN
CALSCALE:GREGORIAN
END:VCALENDAR