BEGIN:VCALENDAR
VERSION:2.0
BEGIN:VEVENT
STATUS:CONFIRMED
DESCRIPTION:
CLASS:PUBLIC
UID:a128aaea-69ae-419f-a477-0e8491c9e428
URL:https://nyght.ch/events/a128aaea-69ae-419f-a477-0e8491c9e428
SUMMARY:212° Festival - Samedi soir
LAST-MODIFIED:20260224T085608Z
DTSTAMP:20260419T144637Z
DTSTART:20260425T200000Z
DTEND:20260426T020000Z
END:VEVENT
METHOD:PUBLISH
PRODID:-//Nyght//iCal API//EN
CALSCALE:GREGORIAN
END:VCALENDAR