BEGIN:VCALENDAR
VERSION:2.0
BEGIN:VEVENT
STATUS:CONFIRMED
DESCRIPTION:
CLASS:PUBLIC
UID:a7039fb0-b7ab-4be2-8e2a-a04646348123
URL:https://nyght.ch/events/a7039fb0-b7ab-4be2-8e2a-a04646348123
SUMMARY:Roshâni + 7EMA 
LAST-MODIFIED:20251216T182502Z
DTSTAMP:20260423T003505Z
DTSTART:20260227T150000Z
DTEND:20260227T223000Z
END:VEVENT
METHOD:PUBLISH
PRODID:-//Nyght//iCal API//EN
CALSCALE:GREGORIAN
END:VCALENDAR