BEGIN:VCALENDAR
VERSION:2.0
BEGIN:VEVENT
STATUS:CONFIRMED
DESCRIPTION:
CLASS:PUBLIC
UID:a7842419-02e5-4c3e-9e56-a184d88fbaae
URL:https://nyght.ch/events/a7842419-02e5-4c3e-9e56-a184d88fbaae
SUMMARY:30 ans - Dimanche APM
LAST-MODIFIED:20251030T164355Z
DTSTAMP:20260425T023803Z
DTSTART:20251130T120000Z
DTEND:20251130T170000Z
END:VEVENT
METHOD:PUBLISH
PRODID:-//Nyght//iCal API//EN
CALSCALE:GREGORIAN
END:VCALENDAR