BEGIN:VCALENDAR
VERSION:2.0
BEGIN:VEVENT
STATUS:CONFIRMED
DESCRIPTION:
CLASS:PUBLIC
UID:a9131caa-468d-4a13-be8a-ce31958aaf9a
URL:https://nyght.ch/events/a9131caa-468d-4a13-be8a-ce31958aaf9a
SUMMARY:What the Fuzz #1 Doom No Yelbek, Kadna, Giant Moa
LAST-MODIFIED:20251028T074308Z
DTSTAMP:20260424T204907Z
DTSTART:20251212T150000Z
DTEND:20251212T230000Z
END:VEVENT
METHOD:PUBLISH
PRODID:-//Nyght//iCal API//EN
CALSCALE:GREGORIAN
END:VCALENDAR