BEGIN:VCALENDAR
VERSION:2.0
BEGIN:VEVENT
STATUS:CONFIRMED
DESCRIPTION:
CLASS:PUBLIC
UID:ad736eb6-5c45-4bdb-977e-6228000d8880
URL:https://nyght.ch/events/ad736eb6-5c45-4bdb-977e-6228000d8880
SUMMARY:Clément Périard b2b DSCH
LAST-MODIFIED:20260224T085532Z
DTSTAMP:20260422T104713Z
DTSTART:20260321T210000Z
DTEND:20260322T020000Z
END:VEVENT
METHOD:PUBLISH
PRODID:-//Nyght//iCal API//EN
CALSCALE:GREGORIAN
END:VCALENDAR