BEGIN:VCALENDAR
VERSION:2.0
BEGIN:VEVENT
STATUS:CONFIRMED
DESCRIPTION:
CLASS:PUBLIC
UID:b0b5a8f7-ebd5-42d9-815b-c4ca3003cfc0
URL:https://nyght.ch/events/b0b5a8f7-ebd5-42d9-815b-c4ca3003cfc0
SUMMARY:Cludaco - Dance Session 
LAST-MODIFIED:20251028T074313Z
DTSTAMP:20260424T185519Z
DTSTART:20251213T210000Z
DTEND:20251214T020000Z
END:VEVENT
METHOD:PUBLISH
PRODID:-//Nyght//iCal API//EN
CALSCALE:GREGORIAN
END:VCALENDAR