BEGIN:VCALENDAR
VERSION:2.0
BEGIN:VEVENT
STATUS:CONFIRMED
DESCRIPTION:Open Deck de 18h à 22h dans le café puis à 22h00 dans la sall
 e ! 
CLASS:PUBLIC
UID:b1926ca8-35a9-4e49-8511-4250cc604cb6
URL:https://nyght.ch/events/b1926ca8-35a9-4e49-8511-4250cc604cb6
SUMMARY:Open Deck by Juice & Clas
LAST-MODIFIED:20251216T182349Z
DTSTAMP:20260424T072921Z
DTSTART:20260109T170000Z
DTEND:20260110T020000Z
END:VEVENT
METHOD:PUBLISH
PRODID:-//Nyght//iCal API//EN
CALSCALE:GREGORIAN
END:VCALENDAR