BEGIN:VCALENDAR
VERSION:2.0
BEGIN:VEVENT
STATUS:CONFIRMED
DESCRIPTION:Fête du bâtiment avec le Belluard + le FIFF - Perfo + Théâtre
  + film + concert + teuf 
CLASS:PUBLIC
UID:ba9066aa-959b-4685-962e-f0228ffba86a
URL:https://nyght.ch/events/ba9066aa-959b-4685-962e-f0228ffba86a
SUMMARY:Fête du Bâtiment
LAST-MODIFIED:20251216T182403Z
DTSTAMP:20260424T030518Z
DTSTART:20260116T150000Z
DTEND:20260117T020000Z
END:VEVENT
METHOD:PUBLISH
PRODID:-//Nyght//iCal API//EN
CALSCALE:GREGORIAN
END:VCALENDAR