BEGIN:VCALENDAR
VERSION:2.0
BEGIN:VEVENT
STATUS:CONFIRMED
DESCRIPTION:
CLASS:PUBLIC
UID:bbc992cc-028f-41b3-8ca9-cdcd7472ae61
URL:https://nyght.ch/events/bbc992cc-028f-41b3-8ca9-cdcd7472ae61
SUMMARY:212° Festival - Samedi apm
LAST-MODIFIED:20260224T085603Z
DTSTAMP:20260419T150244Z
DTSTART:20260425T140000Z
DTEND:20260425T200000Z
END:VEVENT
METHOD:PUBLISH
PRODID:-//Nyght//iCal API//EN
CALSCALE:GREGORIAN
END:VCALENDAR