BEGIN:VCALENDAR
VERSION:2.0
BEGIN:VEVENT
STATUS:CONFIRMED
DESCRIPTION:
CLASS:PUBLIC
UID:bbe839b5-fc3e-47e3-92e0-210fa555b1c7
URL:https://nyght.ch/events/bbe839b5-fc3e-47e3-92e0-210fa555b1c7
SUMMARY:Cheese Suze Christ 
LAST-MODIFIED:20251028T074333Z
DTSTAMP:20260424T140037Z
DTSTART:20251219T200000Z
DTEND:20251220T020000Z
END:VEVENT
METHOD:PUBLISH
PRODID:-//Nyght//iCal API//EN
CALSCALE:GREGORIAN
END:VCALENDAR