BEGIN:VCALENDAR
VERSION:2.0
BEGIN:VEVENT
STATUS:CONFIRMED
DESCRIPTION:
CLASS:PUBLIC
UID:bd9717bb-b0b8-4de3-a09b-5bcfed19c2bc
URL:https://nyght.ch/events/bd9717bb-b0b8-4de3-a09b-5bcfed19c2bc
SUMMARY:212° Festival - Vendredi 
LAST-MODIFIED:20260224T085600Z
DTSTAMP:20260419T144900Z
DTSTART:20260424T190000Z
DTEND:20260425T024500Z
END:VEVENT
METHOD:PUBLISH
PRODID:-//Nyght//iCal API//EN
CALSCALE:GREGORIAN
END:VCALENDAR