BEGIN:VCALENDAR
VERSION:2.0
BEGIN:VEVENT
STATUS:CONFIRMED
DESCRIPTION:
CLASS:PUBLIC
UID:bf66ca0e-a1e8-4176-a3c1-d686f59eba42
URL:https://nyght.ch/events/bf66ca0e-a1e8-4176-a3c1-d686f59eba42
SUMMARY:HACKEDEPICCIOTTO + SOWL
LAST-MODIFIED:20260224T085517Z
DTSTAMP:20260422T213814Z
DTSTART:20260306T200000Z
DTEND:20260306T223000Z
END:VEVENT
METHOD:PUBLISH
PRODID:-//Nyght//iCal API//EN
CALSCALE:GREGORIAN
END:VCALENDAR