BEGIN:VCALENDAR
VERSION:2.0
BEGIN:VEVENT
STATUS:CONFIRMED
DESCRIPTION:
CLASS:PUBLIC
UID:bf99e7cc-6674-4992-886e-8d50e0dea59e
URL:https://nyght.ch/events/bf99e7cc-6674-4992-886e-8d50e0dea59e
SUMMARY:What the Fuzz #2 Carnage Piknik + Wilibald + Erreurjean + Eckhart
LAST-MODIFIED:20251216T182445Z
DTSTAMP:20260423T100022Z
DTSTART:20260207T150000Z
DTEND:20260208T000000Z
END:VEVENT
METHOD:PUBLISH
PRODID:-//Nyght//iCal API//EN
CALSCALE:GREGORIAN
END:VCALENDAR